BEGIN:VCALENDAR
VERSION:2.0
PRODID:-//Śląski Związek Jeździecki - ECPv6.15.17//NONSGML v1.0//EN
CALSCALE:GREGORIAN
METHOD:PUBLISH
X-WR-CALNAME:Śląski Związek Jeździecki
X-ORIGINAL-URL:https://szj.info
X-WR-CALDESC:Zdarzenia dla Śląski Związek Jeździecki
REFRESH-INTERVAL;VALUE=DURATION:PT1H
X-Robots-Tag:noindex
X-PUBLISHED-TTL:PT1H
BEGIN:VTIMEZONE
TZID:Europe/Paris
BEGIN:DAYLIGHT
TZOFFSETFROM:+0100
TZOFFSETTO:+0200
TZNAME:CEST
DTSTART:20240331T010000
END:DAYLIGHT
BEGIN:STANDARD
TZOFFSETFROM:+0200
TZOFFSETTO:+0100
TZNAME:CET
DTSTART:20241027T010000
END:STANDARD
BEGIN:DAYLIGHT
TZOFFSETFROM:+0100
TZOFFSETTO:+0200
TZNAME:CEST
DTSTART:20250330T010000
END:DAYLIGHT
BEGIN:STANDARD
TZOFFSETFROM:+0200
TZOFFSETTO:+0100
TZNAME:CET
DTSTART:20251026T010000
END:STANDARD
BEGIN:DAYLIGHT
TZOFFSETFROM:+0100
TZOFFSETTO:+0200
TZNAME:CEST
DTSTART:20260329T010000
END:DAYLIGHT
BEGIN:STANDARD
TZOFFSETFROM:+0200
TZOFFSETTO:+0100
TZNAME:CET
DTSTART:20261025T010000
END:STANDARD
END:VTIMEZONE
BEGIN:VEVENT
DTSTART;VALUE=DATE:20250920
DTEND;VALUE=DATE:20250921
DTSTAMP:20260420T133949
CREATED:20250425T131352Z
LAST-MODIFIED:20250822T130320Z
UID:1010-1758326400-1758412799@szj.info
SUMMARY:ZT - A
DESCRIPTION:Propozycje zawodów: Propozycje Zawodów SKJ Omega (1)(1)
URL:https://szj.info/event/zt-a/
LOCATION:SKJ Omega\, Ruda Śląska\, Poland
CATEGORIES:Propozycja zawodów
END:VEVENT
END:VCALENDAR