BEGIN:VCALENDAR
VERSION:2.0
PRODID:-//Śląski Związek Jeździecki - ECPv6.15.17//NONSGML v1.0//EN
CALSCALE:GREGORIAN
METHOD:PUBLISH
X-WR-CALNAME:Śląski Związek Jeździecki
X-ORIGINAL-URL:https://szj.info
X-WR-CALDESC:Zdarzenia dla Śląski Związek Jeździecki
REFRESH-INTERVAL;VALUE=DURATION:PT1H
X-Robots-Tag:noindex
X-PUBLISHED-TTL:PT1H
BEGIN:VTIMEZONE
TZID:Europe/Paris
BEGIN:DAYLIGHT
TZOFFSETFROM:+0100
TZOFFSETTO:+0200
TZNAME:CEST
DTSTART:20250330T010000
END:DAYLIGHT
BEGIN:STANDARD
TZOFFSETFROM:+0200
TZOFFSETTO:+0100
TZNAME:CET
DTSTART:20251026T010000
END:STANDARD
BEGIN:DAYLIGHT
TZOFFSETFROM:+0100
TZOFFSETTO:+0200
TZNAME:CEST
DTSTART:20260329T010000
END:DAYLIGHT
BEGIN:STANDARD
TZOFFSETFROM:+0200
TZOFFSETTO:+0100
TZNAME:CET
DTSTART:20261025T010000
END:STANDARD
BEGIN:DAYLIGHT
TZOFFSETFROM:+0100
TZOFFSETTO:+0200
TZNAME:CEST
DTSTART:20270328T010000
END:DAYLIGHT
BEGIN:STANDARD
TZOFFSETFROM:+0200
TZOFFSETTO:+0100
TZNAME:CET
DTSTART:20271031T010000
END:STANDARD
END:VTIMEZONE
BEGIN:VEVENT
DTSTART;VALUE=DATE:20260426
DTEND;VALUE=DATE:20260427
DTSTAMP:20260420T063131
CREATED:20260302T153038Z
LAST-MODIFIED:20260407T141620Z
UID:1928-1777161600-1777247999@szj.info
SUMMARY:ZRiT - B - ODWOŁANE
DESCRIPTION:Z przykrością informujemy\, że Ośrodek Jeździecki Lando\, z przyczyn niezależnych\, jest zmuszony odwołać organizację zawodów w skokach przez przeszkody planowanych na dzień 26.04.2026 r.
URL:https://szj.info/event/zrit-b-18/
LOCATION:Ośrodek Jeździecki Lando\, Ptakowice\, Poland
END:VEVENT
BEGIN:VEVENT
DTSTART;VALUE=DATE:20260501
DTEND;VALUE=DATE:20260504
DTSTAMP:20260420T063131
CREATED:20260302T153259Z
LAST-MODIFIED:20260302T153259Z
UID:1930-1777593600-1777852799@szj.info
SUMMARY:ZRiT - A
DESCRIPTION:
URL:https://szj.info/event/zrit-a-11/
LOCATION:KJ Lider Radzionków\, Anieli Krzywoń 1\, Radzionków\, 41-922\, Poland
ORGANIZER;CN="KJ Lider Radzionk%C3%B3w":MAILTO:zawody@cichondressage.pl
END:VEVENT
BEGIN:VEVENT
DTSTART;VALUE=DATE:20260501
DTEND;VALUE=DATE:20260504
DTSTAMP:20260420T063131
CREATED:20260302T153343Z
LAST-MODIFIED:20260302T153405Z
UID:1932-1777593600-1777852799@szj.info
SUMMARY:ZRiT - B
DESCRIPTION:
URL:https://szj.info/event/zrit-b-19/
LOCATION:KJ Lider Radzionków\, Anieli Krzywoń 1\, Radzionków\, 41-922\, Poland
ORGANIZER;CN="KJ Lider Radzionk%C3%B3w":MAILTO:zawody@cichondressage.pl
END:VEVENT
BEGIN:VEVENT
DTSTART;VALUE=DATE:20260509
DTEND;VALUE=DATE:20260511
DTSTAMP:20260420T063131
CREATED:20260407T142114Z
LAST-MODIFIED:20260407T142114Z
UID:2009-1778284800-1778457599@szj.info
SUMMARY:ZRiT-B
DESCRIPTION:
URL:https://szj.info/event/zrit-b-25/
LOCATION:LKJ Solec w Bieruniu\, Bieruń\, Poland
END:VEVENT
BEGIN:VEVENT
DTSTART;VALUE=DATE:20260516
DTEND;VALUE=DATE:20260518
DTSTAMP:20260420T063131
CREATED:20260302T153638Z
LAST-MODIFIED:20260302T153638Z
UID:1934-1778889600-1779062399@szj.info
SUMMARY:ZRiT - B
DESCRIPTION:
URL:https://szj.info/event/zrit-b-20/
LOCATION:Equika\, Sarnów\, Poland
END:VEVENT
BEGIN:VEVENT
DTSTART;VALUE=DATE:20260523
DTEND;VALUE=DATE:20260524
DTSTAMP:20260420T063131
CREATED:20260302T154042Z
LAST-MODIFIED:20260302T154042Z
UID:1941-1779494400-1779580799@szj.info
SUMMARY:ZRiT - B
DESCRIPTION:
URL:https://szj.info/event/zrit-b-21/
LOCATION:KJ Lambada Częstochowa
END:VEVENT
BEGIN:VEVENT
DTSTART;VALUE=DATE:20260523
DTEND;VALUE=DATE:20260525
DTSTAMP:20260420T063131
CREATED:20260302T154259Z
LAST-MODIFIED:20260302T154259Z
UID:1945-1779494400-1779667199@szj.info
SUMMARY:ZRiT + OPŚL LZS - A
DESCRIPTION:
URL:https://szj.info/event/zrit-opsl-lzs-a/
LOCATION:LZJ Drama Zbrosławice\, ul. Wolności 28\, Zbrosławice\, 42-674\, Poland
ORGANIZER;CN="LZJ DRAMA Zbros%C5%82awice":MAILTO:osrodek.jezdziecki@wp.pl
END:VEVENT
BEGIN:VEVENT
DTSTART;VALUE=DATE:20260524
DTEND;VALUE=DATE:20260525
DTSTAMP:20260420T063131
CREATED:20260302T154127Z
LAST-MODIFIED:20260302T154127Z
UID:1943-1779580800-1779667199@szj.info
SUMMARY:ZRiT - Majówka Konna - D
DESCRIPTION:
URL:https://szj.info/event/zrit-majowka-konna-d/
LOCATION:PLKJ Plessówka\, Pszczyna\, Poland
END:VEVENT
BEGIN:VEVENT
DTSTART;VALUE=DATE:20260530
DTEND;VALUE=DATE:20260601
DTSTAMP:20260420T063131
CREATED:20260302T154349Z
LAST-MODIFIED:20260302T154349Z
UID:1948-1780099200-1780271999@szj.info
SUMMARY:AMP - A/B
DESCRIPTION:
URL:https://szj.info/event/amp-a-b/
LOCATION:KJ Lider Radzionków\, Anieli Krzywoń 1\, Radzionków\, 41-922\, Poland
ORGANIZER;CN="KJ Lider Radzionk%C3%B3w":MAILTO:zawody@cichondressage.pl
END:VEVENT
BEGIN:VEVENT
DTSTART;VALUE=DATE:20260530
DTEND;VALUE=DATE:20260601
DTSTAMP:20260420T063131
CREATED:20260302T154442Z
LAST-MODIFIED:20260302T154442Z
UID:1950-1780099200-1780271999@szj.info
SUMMARY:ZRiT - B
DESCRIPTION:
URL:https://szj.info/event/zrit-b-22/
LOCATION:Equika\, Sarnów\, Poland
END:VEVENT
BEGIN:VEVENT
DTSTART;VALUE=DATE:20260612
DTEND;VALUE=DATE:20260615
DTSTAMP:20260420T063131
CREATED:20260302T163843Z
LAST-MODIFIED:20260302T163843Z
UID:1956-1781222400-1781481599@szj.info
SUMMARY:ZRiT - B
DESCRIPTION:
URL:https://szj.info/event/zrit-b-23/
LOCATION:KJ Lider Radzionków\, Anieli Krzywoń 1\, Radzionków\, 41-922\, Poland
ORGANIZER;CN="KJ Lider Radzionk%C3%B3w":MAILTO:zawody@cichondressage.pl
END:VEVENT
BEGIN:VEVENT
DTSTART;VALUE=DATE:20260612
DTEND;VALUE=DATE:20260615
DTSTAMP:20260420T063131
CREATED:20260302T164031Z
LAST-MODIFIED:20260302T164031Z
UID:1958-1781222400-1781481599@szj.info
SUMMARY:ZRiT - A
DESCRIPTION:
URL:https://szj.info/event/zrit-a-12/
LOCATION:Equika\, Sarnów\, Poland
END:VEVENT
BEGIN:VEVENT
DTSTART;VALUE=DATE:20260620
DTEND;VALUE=DATE:20260622
DTSTAMP:20260420T063131
CREATED:20260302T164230Z
LAST-MODIFIED:20260302T164230Z
UID:1960-1781913600-1782086399@szj.info
SUMMARY:ZRiT - B
DESCRIPTION:
URL:https://szj.info/event/zrit-b-24/
LOCATION:Equika\, Sarnów\, Poland
END:VEVENT
BEGIN:VEVENT
DTSTART;VALUE=DATE:20260627
DTEND;VALUE=DATE:20260628
DTSTAMP:20260420T063131
CREATED:20260302T164437Z
LAST-MODIFIED:20260302T164437Z
UID:1962-1782518400-1782604799@szj.info
SUMMARY:ZT - B
DESCRIPTION:
URL:https://szj.info/event/zt-b-4/
LOCATION:Katowicki Klub Jeździecki\, Katowice\, Poland
END:VEVENT
BEGIN:VEVENT
DTSTART;VALUE=DATE:20260704
DTEND;VALUE=DATE:20260705
DTSTAMP:20260420T063131
CREATED:20260302T164547Z
LAST-MODIFIED:20260302T164547Z
UID:1964-1783123200-1783209599@szj.info
SUMMARY:ZT - B
DESCRIPTION:
URL:https://szj.info/event/zt-b-5/
LOCATION:Hubertus Międzyświeć\, Międzyświeć\, Poland
END:VEVENT
BEGIN:VEVENT
DTSTART;VALUE=DATE:20260704
DTEND;VALUE=DATE:20260706
DTSTAMP:20260420T063131
CREATED:20260407T142742Z
LAST-MODIFIED:20260407T142742Z
UID:2012-1783123200-1783295999@szj.info
SUMMARY:ZRiT - B
DESCRIPTION:
URL:https://szj.info/event/zrit-b-26/
LOCATION:Equika\, Sarnów\, Poland
END:VEVENT
BEGIN:VEVENT
DTSTART;VALUE=DATE:20260706
DTEND;VALUE=DATE:20260710
DTSTAMP:20260420T063131
CREATED:20260407T145554Z
LAST-MODIFIED:20260407T145554Z
UID:2064-1783296000-1783641599@szj.info
SUMMARY:OOM - A
DESCRIPTION:OJ Fidelius Ciecierzyn
URL:https://szj.info/event/oom-a/
END:VEVENT
BEGIN:VEVENT
DTSTART;VALUE=DATE:20260710
DTEND;VALUE=DATE:20260713
DTSTAMP:20260420T063131
CREATED:20260407T142856Z
LAST-MODIFIED:20260407T142856Z
UID:2014-1783641600-1783900799@szj.info
SUMMARY:ZRiT + DiM
DESCRIPTION:
URL:https://szj.info/event/zrit-dim/
LOCATION:KJ Lider Radzionków\, Anieli Krzywoń 1\, Radzionków\, 41-922\, Poland
ORGANIZER;CN="KJ Lider Radzionk%C3%B3w":MAILTO:zawody@cichondressage.pl
END:VEVENT
BEGIN:VEVENT
DTSTART;VALUE=DATE:20260710
DTEND;VALUE=DATE:20260713
DTSTAMP:20260420T063131
CREATED:20260407T145640Z
LAST-MODIFIED:20260407T145640Z
UID:2067-1783641600-1783900799@szj.info
SUMMARY:OOM - B
DESCRIPTION:OJ Fidelius Ciecierzyn
URL:https://szj.info/event/oom-b/
END:VEVENT
BEGIN:VEVENT
DTSTART;VALUE=DATE:20260730
DTEND;VALUE=DATE:20260803
DTSTAMP:20260420T063131
CREATED:20260407T145750Z
LAST-MODIFIED:20260407T145806Z
UID:2070-1785369600-1785715199@szj.info
SUMMARY:OOM - C
DESCRIPTION:Strzegom
URL:https://szj.info/event/oom-c/
END:VEVENT
BEGIN:VEVENT
DTSTART;VALUE=DATE:20260731
DTEND;VALUE=DATE:20260803
DTSTAMP:20260420T063131
CREATED:20260407T142948Z
LAST-MODIFIED:20260407T142948Z
UID:2016-1785456000-1785715199@szj.info
SUMMARY:ZRiT - B
DESCRIPTION:
URL:https://szj.info/event/zrit-b-27/
LOCATION:KJ Lider Radzionków\, Anieli Krzywoń 1\, Radzionków\, 41-922\, Poland
ORGANIZER;CN="KJ Lider Radzionk%C3%B3w":MAILTO:zawody@cichondressage.pl
END:VEVENT
BEGIN:VEVENT
DTSTART;VALUE=DATE:20260731
DTEND;VALUE=DATE:20260803
DTSTAMP:20260420T063131
CREATED:20260407T143111Z
LAST-MODIFIED:20260407T143111Z
UID:2018-1785456000-1785715199@szj.info
SUMMARY:ZRiT - A
DESCRIPTION:
URL:https://szj.info/event/zrit-a-10/
LOCATION:KJ Lider Radzionków\, Anieli Krzywoń 1\, Radzionków\, 41-922\, Poland
ORGANIZER;CN="KJ Lider Radzionk%C3%B3w":MAILTO:zawody@cichondressage.pl
END:VEVENT
BEGIN:VEVENT
DTSTART;VALUE=DATE:20260809
DTEND;VALUE=DATE:20260810
DTSTAMP:20260420T063131
CREATED:20260407T143154Z
LAST-MODIFIED:20260407T143154Z
UID:2021-1786233600-1786319999@szj.info
SUMMARY:ZRiT - PLESS CUP
DESCRIPTION:
URL:https://szj.info/event/zrit-pless-cup/
LOCATION:PLKJ Plessówka\, Pszczyna\, Poland
END:VEVENT
BEGIN:VEVENT
DTSTART;VALUE=DATE:20260821
DTEND;VALUE=DATE:20260824
DTSTAMP:20260420T063131
CREATED:20260407T143308Z
LAST-MODIFIED:20260407T143308Z
UID:2023-1787270400-1787529599@szj.info
SUMMARY:ZO + ZRiT - A
DESCRIPTION:
URL:https://szj.info/event/zo-zrit-a/
LOCATION:Equika\, Sarnów\, Poland
END:VEVENT
BEGIN:VEVENT
DTSTART;VALUE=DATE:20260828
DTEND;VALUE=DATE:20260831
DTSTAMP:20260420T063131
CREATED:20260407T143408Z
LAST-MODIFIED:20260407T143408Z
UID:2025-1787875200-1788134399@szj.info
SUMMARY:MŚL - C
DESCRIPTION:
URL:https://szj.info/event/msl-c/
LOCATION:KJ Facimiech\, Facimiech 1\, Facimiech\, Facimiech\, 32-051
ORGANIZER;CN="KJ Facimiech":MAILTO:zawody.facimiech@gmail.com
END:VEVENT
BEGIN:VEVENT
DTSTART;VALUE=DATE:20260829
DTEND;VALUE=DATE:20260831
DTSTAMP:20260420T063131
CREATED:20260407T143446Z
LAST-MODIFIED:20260407T143446Z
UID:2027-1787961600-1788134399@szj.info
SUMMARY:ZRiT - B
DESCRIPTION:
URL:https://szj.info/event/zrit-b-28/
LOCATION:Equika\, Sarnów\, Poland
END:VEVENT
BEGIN:VEVENT
DTSTART;VALUE=DATE:20260904
DTEND;VALUE=DATE:20260907
DTSTAMP:20260420T063131
CREATED:20260407T143555Z
LAST-MODIFIED:20260407T143555Z
UID:2029-1788480000-1788739199@szj.info
SUMMARY:MŚL + ZRiT - A
DESCRIPTION:
URL:https://szj.info/event/msl-zrit-a/
LOCATION:LZJ Drama Zbrosławice\, ul. Wolności 28\, Zbrosławice\, 42-674\, Poland
ORGANIZER;CN="LZJ DRAMA Zbros%C5%82awice":MAILTO:osrodek.jezdziecki@wp.pl
END:VEVENT
BEGIN:VEVENT
DTSTART;VALUE=DATE:20260905
DTEND;VALUE=DATE:20260906
DTSTAMP:20260420T063131
CREATED:20260407T143719Z
LAST-MODIFIED:20260407T143745Z
UID:2031-1788566400-1788652799@szj.info
SUMMARY:ZRiT - B
DESCRIPTION:
URL:https://szj.info/event/zrit-b-29/
LOCATION:KJ Lambada Częstochowa
END:VEVENT
BEGIN:VEVENT
DTSTART;VALUE=DATE:20260911
DTEND;VALUE=DATE:20260914
DTSTAMP:20260420T063131
CREATED:20260407T143900Z
LAST-MODIFIED:20260407T143900Z
UID:2033-1789084800-1789343999@szj.info
SUMMARY:MŚL + ZRiT - B
DESCRIPTION:
URL:https://szj.info/event/msl-zrit-b/
LOCATION:KJ Lider Radzionków\, Anieli Krzywoń 1\, Radzionków\, 41-922\, Poland
ORGANIZER;CN="KJ Lider Radzionk%C3%B3w":MAILTO:zawody@cichondressage.pl
END:VEVENT
BEGIN:VEVENT
DTSTART;VALUE=DATE:20260920
DTEND;VALUE=DATE:20260921
DTSTAMP:20260420T063131
CREATED:20260407T144113Z
LAST-MODIFIED:20260407T144113Z
UID:2035-1789862400-1789948799@szj.info
SUMMARY:ZT - A
DESCRIPTION:
URL:https://szj.info/event/zt-a-2/
LOCATION:SKJ Omega\, Ruda Śląska\, Poland
END:VEVENT
END:VCALENDAR