BEGIN:VCALENDAR
VERSION:2.0
PRODID:-//Śląski Związek Jeździecki - ECPv6.15.17//NONSGML v1.0//EN
CALSCALE:GREGORIAN
METHOD:PUBLISH
X-ORIGINAL-URL:https://szj.info
X-WR-CALDESC:Zdarzenia dla Śląski Związek Jeździecki
REFRESH-INTERVAL;VALUE=DURATION:PT1H
X-Robots-Tag:noindex
X-PUBLISHED-TTL:PT1H
BEGIN:VTIMEZONE
TZID:Europe/Paris
BEGIN:DAYLIGHT
TZOFFSETFROM:+0100
TZOFFSETTO:+0200
TZNAME:CEST
DTSTART:20250330T010000
END:DAYLIGHT
BEGIN:STANDARD
TZOFFSETFROM:+0200
TZOFFSETTO:+0100
TZNAME:CET
DTSTART:20251026T010000
END:STANDARD
BEGIN:DAYLIGHT
TZOFFSETFROM:+0100
TZOFFSETTO:+0200
TZNAME:CEST
DTSTART:20260329T010000
END:DAYLIGHT
BEGIN:STANDARD
TZOFFSETFROM:+0200
TZOFFSETTO:+0100
TZNAME:CET
DTSTART:20261025T010000
END:STANDARD
BEGIN:DAYLIGHT
TZOFFSETFROM:+0100
TZOFFSETTO:+0200
TZNAME:CEST
DTSTART:20270328T010000
END:DAYLIGHT
BEGIN:STANDARD
TZOFFSETFROM:+0200
TZOFFSETTO:+0100
TZNAME:CET
DTSTART:20271031T010000
END:STANDARD
END:VTIMEZONE
BEGIN:VEVENT
DTSTART;VALUE=DATE:20261106
DTEND;VALUE=DATE:20261109
DTSTAMP:20260420T085206
CREATED:20260407T144948Z
LAST-MODIFIED:20260407T144948Z
UID:2052-1793923200-1794182399@szj.info
SUMMARY:HZRiT + HMŚL - B
DESCRIPTION:
URL:https://szj.info/event/hzrit-hmsl-b/
LOCATION:LZJ Drama Zbrosławice\, ul. Wolności 28\, Zbrosławice\, 42-674\, Poland
ORGANIZER;CN="LZJ DRAMA Zbros%C5%82awice":MAILTO:osrodek.jezdziecki@wp.pl
END:VEVENT
BEGIN:VEVENT
DTSTART;VALUE=DATE:20261114
DTEND;VALUE=DATE:20261116
DTSTAMP:20260420T085206
CREATED:20260407T145139Z
LAST-MODIFIED:20260407T145139Z
UID:2056-1794614400-1794787199@szj.info
SUMMARY:HZRiT - B
DESCRIPTION:
URL:https://szj.info/event/hzrit-b-5/
LOCATION:KJ Lider Radzionków\, Anieli Krzywoń 1\, Radzionków\, 41-922\, Poland
ORGANIZER;CN="KJ Lider Radzionk%C3%B3w":MAILTO:zawody@cichondressage.pl
END:VEVENT
BEGIN:VEVENT
DTSTART;VALUE=DATE:20261114
DTEND;VALUE=DATE:20261116
DTSTAMP:20260420T085206
CREATED:20260407T145222Z
LAST-MODIFIED:20260407T145222Z
UID:2058-1794614400-1794787199@szj.info
SUMMARY:HZRiT - A
DESCRIPTION:
URL:https://szj.info/event/hzrit-a-3/
LOCATION:KJ Lider Radzionków\, Anieli Krzywoń 1\, Radzionków\, 41-922\, Poland
ORGANIZER;CN="KJ Lider Radzionk%C3%B3w":MAILTO:zawody@cichondressage.pl
END:VEVENT
BEGIN:VEVENT
DTSTART;VALUE=DATE:20261127
DTEND;VALUE=DATE:20261130
DTSTAMP:20260420T085206
CREATED:20260407T145043Z
LAST-MODIFIED:20260407T145043Z
UID:2054-1795737600-1795996799@szj.info
SUMMARY:HZRiT + HMŚL - B
DESCRIPTION:
URL:https://szj.info/event/hzrit-hmsl-b-2/
LOCATION:LZJ Drama Zbrosławice\, ul. Wolności 28\, Zbrosławice\, 42-674\, Poland
ORGANIZER;CN="LZJ DRAMA Zbros%C5%82awice":MAILTO:osrodek.jezdziecki@wp.pl
END:VEVENT
BEGIN:VEVENT
DTSTART;VALUE=DATE:20261205
DTEND;VALUE=DATE:20261207
DTSTAMP:20260420T085206
CREATED:20260407T145307Z
LAST-MODIFIED:20260407T145307Z
UID:2060-1796428800-1796601599@szj.info
SUMMARY:HZRiT - B
DESCRIPTION:
URL:https://szj.info/event/hzrit-b-6/
LOCATION:KJ Lider Radzionków\, Anieli Krzywoń 1\, Radzionków\, 41-922\, Poland
ORGANIZER;CN="KJ Lider Radzionk%C3%B3w":MAILTO:zawody@cichondressage.pl
END:VEVENT
BEGIN:VEVENT
DTSTART;VALUE=DATE:20261211
DTEND;VALUE=DATE:20261214
DTSTAMP:20260420T085206
CREATED:20260407T145403Z
LAST-MODIFIED:20260407T145403Z
UID:2062-1796947200-1797206399@szj.info
SUMMARY:HMŚL + HZRiT - A
DESCRIPTION:
URL:https://szj.info/event/hmsl-hzrit-a/
LOCATION:KJ Lider Radzionków\, Anieli Krzywoń 1\, Radzionków\, 41-922\, Poland
ORGANIZER;CN="KJ Lider Radzionk%C3%B3w":MAILTO:zawody@cichondressage.pl
END:VEVENT
END:VCALENDAR