BEGIN:VCALENDAR
VERSION:2.0
PRODID:-//Śląski Związek Jeździecki - ECPv6.15.17//NONSGML v1.0//EN
CALSCALE:GREGORIAN
METHOD:PUBLISH
X-WR-CALNAME:Śląski Związek Jeździecki
X-ORIGINAL-URL:https://szj.info
X-WR-CALDESC:Zdarzenia dla Śląski Związek Jeździecki
REFRESH-INTERVAL;VALUE=DURATION:PT1H
X-Robots-Tag:noindex
X-PUBLISHED-TTL:PT1H
BEGIN:VTIMEZONE
TZID:Europe/Paris
BEGIN:DAYLIGHT
TZOFFSETFROM:+0100
TZOFFSETTO:+0200
TZNAME:CEST
DTSTART:20240331T010000
END:DAYLIGHT
BEGIN:STANDARD
TZOFFSETFROM:+0200
TZOFFSETTO:+0100
TZNAME:CET
DTSTART:20241027T010000
END:STANDARD
BEGIN:DAYLIGHT
TZOFFSETFROM:+0100
TZOFFSETTO:+0200
TZNAME:CEST
DTSTART:20250330T010000
END:DAYLIGHT
BEGIN:STANDARD
TZOFFSETFROM:+0200
TZOFFSETTO:+0100
TZNAME:CET
DTSTART:20251026T010000
END:STANDARD
BEGIN:DAYLIGHT
TZOFFSETFROM:+0100
TZOFFSETTO:+0200
TZNAME:CEST
DTSTART:20260329T010000
END:DAYLIGHT
BEGIN:STANDARD
TZOFFSETFROM:+0200
TZOFFSETTO:+0100
TZNAME:CET
DTSTART:20261025T010000
END:STANDARD
END:VTIMEZONE
BEGIN:VEVENT
DTSTART;VALUE=DATE:20250801
DTEND;VALUE=DATE:20250803
DTSTAMP:20260420T134100
CREATED:20250702T082531Z
LAST-MODIFIED:20250717T153634Z
UID:1434-1754006400-1754179199@szj.info
SUMMARY:ZRiT - A
DESCRIPTION:Propozycje zawodów: propozycje ZRiT A sierpień Radzionków
URL:https://szj.info/event/zrit-a-4/
LOCATION:KJ Lider Radzionków\, Anieli Krzywoń 1\, Radzionków\, 41-922\, Poland
ORGANIZER;CN="KJ Lider Radzionk%C3%B3w":MAILTO:zawody@cichondressage.pl
END:VEVENT
BEGIN:VEVENT
DTSTART;VALUE=DATE:20250801
DTEND;VALUE=DATE:20250804
DTSTAMP:20260420T134100
CREATED:20250425T125434Z
LAST-MODIFIED:20250717T153147Z
UID:996-1754006400-1754265599@szj.info
SUMMARY:ZRiT - B
DESCRIPTION:Propozycje zawodów: propozycje ZRiT – B sierpien Radzionkow
URL:https://szj.info/event/zrit-b-13/
LOCATION:KJ Lider Radzionków\, Anieli Krzywoń 1\, Radzionków\, 41-922\, Poland
CATEGORIES:Propozycja zawodów
ORGANIZER;CN="KJ Lider Radzionk%C3%B3w":MAILTO:zawody@cichondressage.pl
END:VEVENT
BEGIN:VEVENT
DTSTART;TZID=Europe/Paris:20250808T080000
DTEND;TZID=Europe/Paris:20250810T170000
DTSTAMP:20260420T134100
CREATED:20250605T205751Z
LAST-MODIFIED:20260114T201835Z
UID:1376-1754640000-1754845200@szj.info
SUMMARY:MMiŚl.- C/ Dofinansowano ze środków budżetu Samorządu Województwa Śląskiego.
DESCRIPTION:regulamin-mmis-l-wkkw-2025 \nWyniki zawodów: Fwd_ Wyniki WKKW i MMŚL
URL:https://szj.info/event/mmisl-c/
LOCATION:KJ Facimiech\, Facimiech 1\, Facimiech\, Facimiech\, 32-051
ATTACH;FMTTYPE=image/png:https://szj.info/wp-content/uploads/2025/04/znakherbowy.png
END:VEVENT
BEGIN:VEVENT
DTSTART;VALUE=DATE:20250810
DTEND;VALUE=DATE:20250811
DTSTAMP:20260420T134100
CREATED:20250425T130620Z
LAST-MODIFIED:20250708T083530Z
UID:998-1754784000-1754870399@szj.info
SUMMARY:ZRiT - B
DESCRIPTION:Propozycje zawodów:propozycje_pszczyna_10_08_2025 (2) \n\n 
URL:https://szj.info/event/zrit-b-14/
LOCATION:PLKJ Plessówka\, Pszczyna\, Poland
CATEGORIES:Propozycja zawodów
END:VEVENT
BEGIN:VEVENT
DTSTART;VALUE=DATE:20250816
DTEND;VALUE=DATE:20250817
DTSTAMP:20260420T134100
CREATED:20250802T124121Z
LAST-MODIFIED:20250903T172440Z
UID:1492-1755302400-1755388799@szj.info
SUMMARY:ZRiT - F
DESCRIPTION:Propozycje zawodów:zatwierdzone propozycje rajd 16.08. 2025 solec \nWyniki zawodów:Fwd_ WYNIKI Bieruń 16_08_2025
URL:https://szj.info/event/zrit-f-4/
LOCATION:LKJ Solec w Bieruniu\, Bieruń\, Poland
CATEGORIES:Propozycja zawodów
END:VEVENT
BEGIN:VEVENT
DTSTART;VALUE=DATE:20250823
DTEND;VALUE=DATE:20250825
DTSTAMP:20260420T134100
CREATED:20250425T130812Z
LAST-MODIFIED:20250801T043314Z
UID:1000-1755907200-1756079999@szj.info
SUMMARY:ZRiT - A
DESCRIPTION:Propozycje zawodów: Silesia Dressage Cup 2025 Finał (4)
URL:https://szj.info/event/zrit-a-7/
LOCATION:Equika\, Sarnów\, Poland
CATEGORIES:Propozycja zawodów
END:VEVENT
BEGIN:VEVENT
DTSTART;VALUE=DATE:20250829
DTEND;VALUE=DATE:20250901
DTSTAMP:20260420T134100
CREATED:20250425T130940Z
LAST-MODIFIED:20260114T203604Z
UID:1002-1756425600-1756684799@szj.info
SUMMARY:MŚl.- A/ Dofinansowano ze środków budżetu Samorządu Województwa Śląskiego.
DESCRIPTION:REGULAMIN MISTRZOSTW ŚLĄSKA W UJEŻDŻENIU  \nPROPOZYCJE MISTRZOSTW ŚLĄSKA W UJEŻDŻENIU \n 
URL:https://szj.info/event/msl-a/
LOCATION:LZJ Drama Zbrosławice\, ul. Wolności 28\, Zbrosławice\, 42-674\, Poland
CATEGORIES:Propozycja zawodów
ATTACH;FMTTYPE=image/png:https://szj.info/wp-content/uploads/2025/04/znakherbowy.png
ORGANIZER;CN="LZJ DRAMA Zbros%C5%82awice":MAILTO:osrodek.jezdziecki@wp.pl
END:VEVENT
END:VCALENDAR