BEGIN:VCALENDAR
VERSION:2.0
PRODID:-//Śląski Związek Jeździecki - ECPv6.15.17//NONSGML v1.0//EN
CALSCALE:GREGORIAN
METHOD:PUBLISH
X-ORIGINAL-URL:https://szj.info
X-WR-CALDESC:Zdarzenia dla Śląski Związek Jeździecki
REFRESH-INTERVAL;VALUE=DURATION:PT1H
X-Robots-Tag:noindex
X-PUBLISHED-TTL:PT1H
BEGIN:VTIMEZONE
TZID:Europe/Paris
BEGIN:DAYLIGHT
TZOFFSETFROM:+0100
TZOFFSETTO:+0200
TZNAME:CEST
DTSTART:20240331T010000
END:DAYLIGHT
BEGIN:STANDARD
TZOFFSETFROM:+0200
TZOFFSETTO:+0100
TZNAME:CET
DTSTART:20241027T010000
END:STANDARD
BEGIN:DAYLIGHT
TZOFFSETFROM:+0100
TZOFFSETTO:+0200
TZNAME:CEST
DTSTART:20250330T010000
END:DAYLIGHT
BEGIN:STANDARD
TZOFFSETFROM:+0200
TZOFFSETTO:+0100
TZNAME:CET
DTSTART:20251026T010000
END:STANDARD
BEGIN:DAYLIGHT
TZOFFSETFROM:+0100
TZOFFSETTO:+0200
TZNAME:CEST
DTSTART:20260329T010000
END:DAYLIGHT
BEGIN:STANDARD
TZOFFSETFROM:+0200
TZOFFSETTO:+0100
TZNAME:CET
DTSTART:20261025T010000
END:STANDARD
END:VTIMEZONE
BEGIN:VEVENT
DTSTART;VALUE=DATE:20250905
DTEND;VALUE=DATE:20250908
DTSTAMP:20260420T121032
CREATED:20250425T131044Z
LAST-MODIFIED:20260114T201722Z
UID:1004-1757030400-1757289599@szj.info
SUMMARY:MŚl.- B/ Dofinansowano ze środków budżetu Samorządu Województwa Śląskiego.
DESCRIPTION:Regulamin Mistrzostw: regulamin_MSL_B_2025 \nPropozycje zawodów: propozycje MŚl._B 2025
URL:https://szj.info/event/msl-b/
LOCATION:KJ Lider Radzionków\, Anieli Krzywoń 1\, Radzionków\, 41-922\, Poland
CATEGORIES:Propozycja zawodów
ATTACH;FMTTYPE=image/png:https://szj.info/wp-content/uploads/2025/04/znakherbowy.png
ORGANIZER;CN="KJ Lider Radzionk%C3%B3w":MAILTO:zawody@cichondressage.pl
END:VEVENT
BEGIN:VEVENT
DTSTART;VALUE=DATE:20250913
DTEND;VALUE=DATE:20250915
DTSTAMP:20260420T121032
CREATED:20250425T131137Z
LAST-MODIFIED:20250830T133643Z
UID:1006-1757721600-1757894399@szj.info
SUMMARY:ZRiT - B
DESCRIPTION:Propozycje zawodów: Silesia Jumping Cup 2025 finał (6)
URL:https://szj.info/event/zrit-b-15/
LOCATION:Equika\, Sarnów\, Poland
CATEGORIES:Propozycja zawodów
END:VEVENT
BEGIN:VEVENT
DTSTART;VALUE=DATE:20250920
DTEND;VALUE=DATE:20250921
DTSTAMP:20260420T121032
CREATED:20250425T131352Z
LAST-MODIFIED:20250822T130320Z
UID:1010-1758326400-1758412799@szj.info
SUMMARY:ZT - A
DESCRIPTION:Propozycje zawodów: Propozycje Zawodów SKJ Omega (1)(1)
URL:https://szj.info/event/zt-a/
LOCATION:SKJ Omega\, Ruda Śląska\, Poland
CATEGORIES:Propozycja zawodów
END:VEVENT
BEGIN:VEVENT
DTSTART;VALUE=DATE:20250926
DTEND;VALUE=DATE:20250929
DTSTAMP:20260420T121032
CREATED:20250425T131243Z
LAST-MODIFIED:20250912T095412Z
UID:1008-1758844800-1759103999@szj.info
SUMMARY:ZRiT + MPP- B
DESCRIPTION:Propozycje zawodów: MPPoł. 2025 propozycje
URL:https://szj.info/event/zrit-b-16/
LOCATION:KJK Romico\, Żywiec\, Poland
CATEGORIES:Propozycja zawodów
END:VEVENT
BEGIN:VEVENT
DTSTART;VALUE=DATE:20250926
DTEND;VALUE=DATE:20250929
DTSTAMP:20260420T121032
CREATED:20250425T131652Z
LAST-MODIFIED:20250528T130123Z
UID:1015-1758844800-1759103999@szj.info
SUMMARY:CDI1*+CDI3*+CDIYH - A
DESCRIPTION:Na dzień dzisiejszy nie posiadamy żadnych dodatkowych informacji na temat zawodów poza podanym terminem.
URL:https://szj.info/event/cdi1cdi3cdiyh-a/
LOCATION:KJ Lider Radzionków\, Anieli Krzywoń 1\, Radzionków\, 41-922\, Poland
CATEGORIES:Propozycja zawodów
ORGANIZER;CN="KJ Lider Radzionk%C3%B3w":MAILTO:zawody@cichondressage.pl
END:VEVENT
BEGIN:VEVENT
DTSTART;VALUE=DATE:20250927
DTEND;VALUE=DATE:20250928
DTSTAMP:20260420T121032
CREATED:20250909T105909Z
LAST-MODIFIED:20250909T105909Z
UID:1603-1758931200-1759017599@szj.info
SUMMARY:ZRiT - F
DESCRIPTION:Propozycje zawodów: zatw08propozycje solec 27.09srk
URL:https://szj.info/event/zrit-f-5/
LOCATION:LKJ Solec w Bieruniu\, Bieruń\, Poland
END:VEVENT
END:VCALENDAR