BEGIN:VCALENDAR
VERSION:2.0
PRODID:-//Śląski Związek Jeździecki - ECPv6.15.17//NONSGML v1.0//EN
CALSCALE:GREGORIAN
METHOD:PUBLISH
X-WR-CALNAME:Śląski Związek Jeździecki
X-ORIGINAL-URL:https://szj.info
X-WR-CALDESC:Zdarzenia dla Śląski Związek Jeździecki
REFRESH-INTERVAL;VALUE=DURATION:PT1H
X-Robots-Tag:noindex
X-PUBLISHED-TTL:PT1H
BEGIN:VTIMEZONE
TZID:Europe/Paris
BEGIN:DAYLIGHT
TZOFFSETFROM:+0100
TZOFFSETTO:+0200
TZNAME:CEST
DTSTART:20250330T010000
END:DAYLIGHT
BEGIN:STANDARD
TZOFFSETFROM:+0200
TZOFFSETTO:+0100
TZNAME:CET
DTSTART:20251026T010000
END:STANDARD
BEGIN:DAYLIGHT
TZOFFSETFROM:+0100
TZOFFSETTO:+0200
TZNAME:CEST
DTSTART:20260329T010000
END:DAYLIGHT
BEGIN:STANDARD
TZOFFSETFROM:+0200
TZOFFSETTO:+0100
TZNAME:CET
DTSTART:20261025T010000
END:STANDARD
BEGIN:DAYLIGHT
TZOFFSETFROM:+0100
TZOFFSETTO:+0200
TZNAME:CEST
DTSTART:20270328T010000
END:DAYLIGHT
BEGIN:STANDARD
TZOFFSETFROM:+0200
TZOFFSETTO:+0100
TZNAME:CET
DTSTART:20271031T010000
END:STANDARD
END:VTIMEZONE
BEGIN:VEVENT
DTSTART;VALUE=DATE:20260307
DTEND;VALUE=DATE:20260309
DTSTAMP:20260419T213853
CREATED:20260122T175125Z
LAST-MODIFIED:20260131T164921Z
UID:1823-1772841600-1773014399@szj.info
SUMMARY:HZRiT B + eliminacje HPŚL
DESCRIPTION:Propozycje: HZRiT-B_elim. HPŚl.-B_7-08.03.2026 r._propozycje zatwierdzone
URL:https://szj.info/event/hzrit-b-eliminacje-hpsl-2/
LOCATION:LZJ Drama Zbrosławice\, ul. Wolności 28\, Zbrosławice\, 42-674\, Poland
ORGANIZER;CN="LZJ DRAMA Zbros%C5%82awice":MAILTO:osrodek.jezdziecki@wp.pl
END:VEVENT
BEGIN:VEVENT
DTSTART;VALUE=DATE:20260314
DTEND;VALUE=DATE:20260315
DTSTAMP:20260419T213853
CREATED:20260224T124028Z
LAST-MODIFIED:20260224T124028Z
UID:1876-1773446400-1773532799@szj.info
SUMMARY:ZRiT - F
DESCRIPTION:Propozycje: ZRiT; 14.03.2026 r.; LKJ Solec Bieruń
URL:https://szj.info/event/zrit-f-7/
LOCATION:LKJ Solec w Bieruniu\, Bieruń\, Poland
END:VEVENT
BEGIN:VEVENT
DTSTART;VALUE=DATE:20260314
DTEND;VALUE=DATE:20260316
DTSTAMP:20260419T213853
CREATED:20260225T160922Z
LAST-MODIFIED:20260225T160922Z
UID:1890-1773446400-1773619199@szj.info
SUMMARY:ZRiT - B
DESCRIPTION:Propozycje zawodów:ZR-B 14-15.03.26
URL:https://szj.info/event/zrit-b-8/
LOCATION:KJ Lider Radzionków\, Anieli Krzywoń 1\, Radzionków\, 41-922\, Poland
ORGANIZER;CN="KJ Lider Radzionk%C3%B3w":MAILTO:zawody@cichondressage.pl
END:VEVENT
BEGIN:VEVENT
DTSTART;VALUE=DATE:20260314
DTEND;VALUE=DATE:20260316
DTSTAMP:20260419T213853
CREATED:20260225T161740Z
LAST-MODIFIED:20260225T161740Z
UID:1897-1773446400-1773619199@szj.info
SUMMARY:ZRiT - A
DESCRIPTION:Propozycje: Propozycje ujeżdżenie marzec 2026
URL:https://szj.info/event/zrit-a-9/
LOCATION:KJ Lider Radzionków\, Anieli Krzywoń 1\, Radzionków\, 41-922\, Poland
ORGANIZER;CN="KJ Lider Radzionk%C3%B3w":MAILTO:zawody@cichondressage.pl
END:VEVENT
BEGIN:VEVENT
DTSTART;VALUE=DATE:20260320
DTEND;VALUE=DATE:20260323
DTSTAMP:20260419T213853
CREATED:20260302T152501Z
LAST-MODIFIED:20260309T190802Z
UID:1920-1773964800-1774223999@szj.info
SUMMARY:HZRiT + elim. HPŚL + finał HPŚL - B
DESCRIPTION:Propozycje: propozycje Zbrosławice B 20_22_03_2025
URL:https://szj.info/event/hzrit-elim-hpsl-final-hpsl-b/
LOCATION:LZJ Drama Zbrosławice\, ul. Wolności 28\, Zbrosławice\, 42-674\, Poland
ORGANIZER;CN="LZJ DRAMA Zbros%C5%82awice":MAILTO:osrodek.jezdziecki@wp.pl
END:VEVENT
END:VCALENDAR